BEGIN:VCALENDAR
VERSION:2.0
PRODID:-//Ashes To Ashes - ECPv5.12.0//NONSGML v1.0//EN
CALSCALE:GREGORIAN
METHOD:PUBLISH
X-WR-CALNAME:Ashes To Ashes
X-ORIGINAL-URL:http://www.ashestoashestheband.com
X-WR-CALDESC:Events for Ashes To Ashes
REFRESH-INTERVAL;VALUE=DURATION:PT1H
X-Robots-Tag:noindex
X-PUBLISHED-TTL:PT1H
BEGIN:VTIMEZONE
TZID:UTC
BEGIN:STANDARD
TZOFFSETFROM:+0000
TZOFFSETTO:+0000
TZNAME:UTC
DTSTART:20260101T000000
END:STANDARD
END:VTIMEZONE
BEGIN:VEVENT
DTSTART;TZID=UTC:20260425T210000
DTEND;TZID=UTC:20260425T210000
DTSTAMP:20260421T085528
CREATED:20251130T110656Z
LAST-MODIFIED:20251130T110656Z
UID:711-1777150800-1777150800@www.ashestoashestheband.com
SUMMARY:The Tamar
DESCRIPTION:
URL:http://www.ashestoashestheband.com/event/the-tamar-15/
LOCATION:The Tamar\, 1-7 Moorshead Road\, Plymouth\, PL6 5AD\, United Kingdom
END:VEVENT
BEGIN:VEVENT
DTSTART;TZID=UTC:20260501T220000
DTEND;TZID=UTC:20260501T220000
DTSTAMP:20260421T085528
CREATED:20251008T061403Z
LAST-MODIFIED:20251008T061403Z
UID:704-1777672800-1777672800@www.ashestoashestheband.com
SUMMARY:Annabel's
DESCRIPTION:
URL:http://www.ashestoashestheband.com/event/annabels-4/
LOCATION:Annabel’s\, Barbican\, Plymouth\, United Kingdom
END:VEVENT
BEGIN:VEVENT
DTSTART;TZID=UTC:20260523T210000
DTEND;TZID=UTC:20260523T210000
DTSTAMP:20260421T085528
CREATED:20250517T100557Z
LAST-MODIFIED:20250517T100557Z
UID:663-1779570000-1779570000@www.ashestoashestheband.com
SUMMARY:Hyde Park Social Club
DESCRIPTION:
URL:http://www.ashestoashestheband.com/event/hyde-park-social-club-18/
LOCATION:Hyde Park Social Club
END:VEVENT
BEGIN:VEVENT
DTSTART;TZID=UTC:20260620T210000
DTEND;TZID=UTC:20260620T210000
DTSTAMP:20260421T085528
CREATED:20251130T111028Z
LAST-MODIFIED:20251130T111028Z
UID:716-1781989200-1781989200@www.ashestoashestheband.com
SUMMARY:The Tamar
DESCRIPTION:
URL:http://www.ashestoashestheband.com/event/the-tamar-19/
LOCATION:The Tamar\, 1-7 Moorshead Road\, Plymouth\, PL6 5AD\, United Kingdom
END:VEVENT
BEGIN:VEVENT
DTSTART;TZID=UTC:20260710T203000
DTEND;TZID=UTC:20260710T203000
DTSTAMP:20260421T085528
CREATED:20260318T165847Z
LAST-MODIFIED:20260318T165847Z
UID:727-1783715400-1783715400@www.ashestoashestheband.com
SUMMARY:PRIVATE EVENT
DESCRIPTION:
URL:http://www.ashestoashestheband.com/event/private-event-6/
LOCATION:Landulph Memorial Hall\, United Kingdom
END:VEVENT
BEGIN:VEVENT
DTSTART;TZID=UTC:20260725T210000
DTEND;TZID=UTC:20260725T210000
DTSTAMP:20260421T085528
CREATED:20250517T100530Z
LAST-MODIFIED:20250517T100530Z
UID:661-1785013200-1785013200@www.ashestoashestheband.com
SUMMARY:Hyde Park Social Club
DESCRIPTION:
URL:http://www.ashestoashestheband.com/event/hyde-park-social-club-17/
LOCATION:Hyde Park Social Club
END:VEVENT
BEGIN:VEVENT
DTSTART;TZID=UTC:20260808T210000
DTEND;TZID=UTC:20260808T210000
DTSTAMP:20260421T085528
CREATED:20251130T111111Z
LAST-MODIFIED:20251130T111858Z
UID:718-1786222800-1786222800@www.ashestoashestheband.com
SUMMARY:Pennycross Social Club
DESCRIPTION:
URL:http://www.ashestoashestheband.com/event/penncross-social-club/
END:VEVENT
BEGIN:VEVENT
DTSTART;TZID=UTC:20260822T210000
DTEND;TZID=UTC:20260822T210000
DTSTAMP:20260421T085528
CREATED:20250805T090630Z
LAST-MODIFIED:20250805T090630Z
UID:696-1787432400-1787432400@www.ashestoashestheband.com
SUMMARY:Westward Inn
DESCRIPTION:
URL:http://www.ashestoashestheband.com/event/westward-inn-2/
LOCATION:Westward Inn\, Lee Mill Bridge\, Ivybridge\, Devon\, PL219EE\, United Kingdom
END:VEVENT
BEGIN:VEVENT
DTSTART;TZID=UTC:20260905T210000
DTEND;TZID=UTC:20260905T210000
DTSTAMP:20260421T085528
CREATED:20250517T100457Z
LAST-MODIFIED:20250517T100457Z
UID:659-1788642000-1788642000@www.ashestoashestheband.com
SUMMARY:Hyde Park Social Club
DESCRIPTION:
URL:http://www.ashestoashestheband.com/event/hyde-park-social-club-16/
LOCATION:Hyde Park Social Club
END:VEVENT
BEGIN:VEVENT
DTSTART;TZID=UTC:20260926T210000
DTEND;TZID=UTC:20260926T210000
DTSTAMP:20260421T085528
CREATED:20250805T090222Z
LAST-MODIFIED:20250805T090222Z
UID:689-1790456400-1790456400@www.ashestoashestheband.com
SUMMARY:Exmouth GWRSA
DESCRIPTION:
URL:http://www.ashestoashestheband.com/event/exmouth-gwrsa-14/
LOCATION:Exmouth Railway Club – GWRSA\, 3 Royal Avenue\, Exmouth
END:VEVENT
BEGIN:VEVENT
DTSTART;TZID=UTC:20261003T210000
DTEND;TZID=UTC:20261003T210000
DTSTAMP:20260421T085528
CREATED:20251130T111151Z
LAST-MODIFIED:20251130T111151Z
UID:720-1791061200-1791061200@www.ashestoashestheband.com
SUMMARY:Crownhill Royal British Legion
DESCRIPTION:
URL:http://www.ashestoashestheband.com/event/crownhill-royal-british-legion/
END:VEVENT
BEGIN:VEVENT
DTSTART;TZID=UTC:20261017T210000
DTEND;TZID=UTC:20261017T210000
DTSTAMP:20260421T085528
CREATED:20251130T111228Z
LAST-MODIFIED:20251130T111228Z
UID:722-1792270800-1792270800@www.ashestoashestheband.com
SUMMARY:The Tamar
DESCRIPTION:
URL:http://www.ashestoashestheband.com/event/the-tamar-20/
LOCATION:The Tamar\, 1-7 Moorshead Road\, Plymouth\, PL6 5AD\, United Kingdom
END:VEVENT
BEGIN:VEVENT
DTSTART;TZID=UTC:20261031T210000
DTEND;TZID=UTC:20261031T210000
DTSTAMP:20260421T085528
CREATED:20250517T100424Z
LAST-MODIFIED:20250517T100424Z
UID:657-1793480400-1793480400@www.ashestoashestheband.com
SUMMARY:Hyde Park Social Club
DESCRIPTION:
URL:http://www.ashestoashestheband.com/event/hyde-park-social-club-15/
LOCATION:Hyde Park Social Club
END:VEVENT
BEGIN:VEVENT
DTSTART;TZID=UTC:20261115T210000
DTEND;TZID=UTC:20261115T210000
DTSTAMP:20260421T085528
CREATED:20250805T090300Z
LAST-MODIFIED:20250805T090300Z
UID:691-1794776400-1794776400@www.ashestoashestheband.com
SUMMARY:Exmouth GWRSA
DESCRIPTION:
URL:http://www.ashestoashestheband.com/event/exmouth-gwrsa-15/
LOCATION:Exmouth Railway Club – GWRSA\, 3 Royal Avenue\, Exmouth
END:VEVENT
BEGIN:VEVENT
DTSTART;TZID=UTC:20261128T210000
DTEND;TZID=UTC:20261128T210000
DTSTAMP:20260421T085528
CREATED:20250805T090708Z
LAST-MODIFIED:20250805T090708Z
UID:698-1795899600-1795899600@www.ashestoashestheband.com
SUMMARY:Westward Inn
DESCRIPTION:
URL:http://www.ashestoashestheband.com/event/westward-inn-3/
LOCATION:Westward Inn\, Lee Mill Bridge\, Ivybridge\, Devon\, PL219EE\, United Kingdom
END:VEVENT
BEGIN:VEVENT
DTSTART;TZID=UTC:20261212T200000
DTEND;TZID=UTC:20261212T200000
DTSTAMP:20260421T085528
CREATED:20251025T101229Z
LAST-MODIFIED:20251025T101229Z
UID:709-1797105600-1797105600@www.ashestoashestheband.com
SUMMARY:PRIVATE EVENT
DESCRIPTION:
URL:http://www.ashestoashestheband.com/event/private-event-5/
LOCATION:Private Booking\, Plymouth\, United Kingdom
END:VEVENT
BEGIN:VEVENT
DTSTART;TZID=UTC:20261219T210000
DTEND;TZID=UTC:20261219T210000
DTSTAMP:20260421T085528
CREATED:20250517T100352Z
LAST-MODIFIED:20250517T100352Z
UID:655-1797714000-1797714000@www.ashestoashestheband.com
SUMMARY:Hyde Park Social Club
DESCRIPTION:
URL:http://www.ashestoashestheband.com/event/hyde-park-social-club-14/
LOCATION:Hyde Park Social Club
END:VEVENT
BEGIN:VEVENT
DTSTART;TZID=UTC:20261231T210000
DTEND;TZID=UTC:20261231T210000
DTSTAMP:20260421T085528
CREATED:20251130T112138Z
LAST-MODIFIED:20251130T112138Z
UID:725-1798750800-1798750800@www.ashestoashestheband.com
SUMMARY:Exmouth GWRSA
DESCRIPTION:
URL:http://www.ashestoashestheband.com/event/exmouth-gwrsa-10/
LOCATION:Exmouth Railway Club – GWRSA\, 3 Royal Avenue\, Exmouth
END:VEVENT
END:VCALENDAR